BEGIN:VCALENDAR
VERSION:2.0
PRODID:-//KS Guardians Nowolipsk - ECPv6.15.11//NONSGML v1.0//EN
CALSCALE:GREGORIAN
METHOD:PUBLISH
X-ORIGINAL-URL:https://ksguardians.pl
X-WR-CALDESC:Wydarzenia dla KS Guardians Nowolipsk
REFRESH-INTERVAL;VALUE=DURATION:PT1H
X-Robots-Tag:noindex
X-PUBLISHED-TTL:PT1H
BEGIN:VTIMEZONE
TZID:Europe/Warsaw
BEGIN:DAYLIGHT
TZOFFSETFROM:+0100
TZOFFSETTO:+0200
TZNAME:CEST
DTSTART:20250330T010000
END:DAYLIGHT
BEGIN:STANDARD
TZOFFSETFROM:+0200
TZOFFSETTO:+0100
TZNAME:CET
DTSTART:20251026T010000
END:STANDARD
BEGIN:DAYLIGHT
TZOFFSETFROM:+0100
TZOFFSETTO:+0200
TZNAME:CEST
DTSTART:20260329T010000
END:DAYLIGHT
BEGIN:STANDARD
TZOFFSETFROM:+0200
TZOFFSETTO:+0100
TZNAME:CET
DTSTART:20261025T010000
END:STANDARD
BEGIN:DAYLIGHT
TZOFFSETFROM:+0100
TZOFFSETTO:+0200
TZNAME:CEST
DTSTART:20270328T010000
END:DAYLIGHT
BEGIN:STANDARD
TZOFFSETFROM:+0200
TZOFFSETTO:+0100
TZNAME:CET
DTSTART:20271031T010000
END:STANDARD
END:VTIMEZONE
BEGIN:VEVENT
DTSTART;TZID=Europe/Warsaw:20260320T090000
DTEND;TZID=Europe/Warsaw:20260321T190000
DTSTAMP:20260421T101728
CREATED:20260128T153336Z
LAST-MODIFIED:20260202T221650Z
UID:7171-1773997200-1774119600@ksguardians.pl
SUMMARY:Kurs do egzaminu na patent
DESCRIPTION:Kurs przygotowawczy do egzaminu na patent strzelecki\nKlub Strzelecki Guardians Nowolipsk zaprasza na kurs przygotowujący do egzaminu na patent strzelecki\, organizowany w marcu 2026 roku.Szkolenie obejmuje część teoretyczną\, praktyczną oraz przygotowanie do egzaminu zgodnie z obowiązującymi przepisami PZSS. \n\nTerminy i miejsca zajęć\n20 marca 2026 r. (piątek)🕘 godz. 8:00 – część teoretyczna📍 Kalisz\, salka wykładowa – adres zostanie przesłany mailowo \n21 marca 2026 r. (sobota)🕒 godz. 9:00 – 15:00 – część praktyczna\n🕒 godz. 15:00 – egzamin próbny na patent strzelecki📍 Strzelnica Sportowa \,\,Jóźwiak” – Nowolipsk 59\, 63-313 Chocz \nDla kogo jest kurs?\n\nKurs przeznaczony jest wyłącznie dla członków klubu KS Guardians Nowolipsk\nIstnieje możliwość zapisu do klubu oraz udziału w kursie w jednym procesie\n\nDlaczego warto wziąć udział?\n\nKrótki czas do egzaminu – bez wielomiesięcznego oczekiwania\nOgraniczona liczba uczestników\, aby zapewnić wysoką jakość szkolenia\nMateriały szkoleniowe udostępniane przed kursem\nZajęcia prowadzone przez doświadczonych instruktorów i sędziów sportowych\nPróbny egzamin teoretyczny i praktyczny wraz z omówieniem wyników\nPrzerwa kawowa w trakcie zajęć (kawa\, herbata\, woda\, słodki poczęstunek)\n\nCena kursu\n💰500 zł \nCena obejmuje: \n✔ zajęcia teoretyczne\n✔ zajęcia praktyczne\n✔ koszt amunicji\n✔ próbny egzamin\n✔ kawa\, herbata\, woda\, słodki poczęstunek \n⚠ Liczba miejsc ograniczona – o udziale decyduje kolejność zgłoszeń. \nZapisy\n📝 Zapisy na kurs przez poniższy formularz: \nZapisz się na kurs\nMasz pytania?\n📧 biuro@ksguardians.pl📞 501 591 659 \nFAQ:\n Czy muszę być członkiem klubu\, aby wziąć udział w kursie? Tak. Zgodnie z przepisami PZSS w kursie mogą uczestniczyć wyłącznie członkowie klubu.Istnieje możliwość zapisu do klubu i kursu jednocześnie.  Czy kurs przygotowuje do egzaminu w całości? Tak. Kurs obejmuje część teoretyczną\, praktyczną oraz próbny egzamin wraz z omówieniem najczęstszych błędów.  Ile osób bierze udział w kursie? Liczba miejsc jest ograniczona\, aby zapewnić wysoką jakość szkolenia i indywidualne podejście.  Czy amunicja jest wliczona w cenę? Tak\, koszt amunicji potrzebnej do zajęć praktycznych jest wliczony w cenę kursu.  Co należy zabrać na kurs? Szczegółowe informacje organizacyjne uczestnicy otrzymają po potwierdzeniu zapisu. \nChcesz podejść do egzaminu na patent?\nDołącz do Klubu Strzeleckiego Guardians Nowolipsk i weź udział w najbliższym kursie. \nCzłonkostwo w klubie to wymóg formalny\, ale także realne wsparcie: \n\npomoc w przygotowaniu do egzaminu\ndostęp do materiałów szkoleniowych\nmożliwość udziału w treningach i zawodach\nwsparcie instruktorów i doświadczonych zawodników\n\n👉 Zapis do klubu i kursu możesz zrealizować w jednym procesie.Nie odkładaj decyzji – liczba miejsc w kursie jest ograniczona. \nDołącz do klubu\n\n 
URL:https://ksguardians.pl/event/kurs-do-egzaminu-na-patent/
LOCATION:Strzelnica Sportowa \,\,Jóźwiak” Nowolipsk\, Nowolipsk 59\, Chocz\, wielkopolskie\, 63-313\, Poland
ORGANIZER;CN="KS Guardians Nowolipsk":MAILTO:biuro@ksguardians.pl
END:VEVENT
BEGIN:VEVENT
DTSTART;TZID=Europe/Warsaw:20260322T090000
DTEND;TZID=Europe/Warsaw:20260322T150000
DTSTAMP:20260421T101728
CREATED:20251220T105917Z
LAST-MODIFIED:20260218T183659Z
UID:7087-1774170000-1774191600@ksguardians.pl
SUMMARY:Powitanie Wiosny
DESCRIPTION:🏆 Zawody strzeleckie „Powitanie Wiosny”\n22 marca 2026 • Strzelnica SPORTOWA „Jóźwiak” – Nowolipsk 59\n\n\nSerdecznie zapraszamy na zawody strzeleckie „Powitanie Wiosny”\,\nktóre odbędą się 22 marca 2026 r. na strzelnicy sportowej\n„Jóźwiak” w Nowolipsku. \nRozegranych zostanie 8 konkurencji strzeleckich – pistolet\,\nkarabin\, strzelba oraz konkurencje dynamiczne. Zawody umożliwiają zaliczenie\nstartów do przedłużenia licencji PZSS na rok 2027. \n\n\n📅 Termin i miejsce\nData: 22.03.2026 \nGodzina: 9:00 – 15:00 \nBiuro zawodów: czynne od 8:30 \nMiejsce: Strzelnica Sportowa „Jóźwiak”\, Nowolipsk 59\, 63 – 313 Chocz \n\n\n🎯 Konkurencje\n\nPistolet sportowy\nPistolet centralnego zapłonu\nPCC\nStrzelba SLUG\nKarabin sportowy\nKarabin centralnego zapłonu\nTrap\nStrzelba dynamiczna\n\n\n\n👤 Uczestnictwo\n\nzawodnicy z ważną licencją PZSS na rok 2026\nkategoria OPEN\nzawody do przedłużenia licencji\n\n\n\n🏆 Nagrody\n\nPuchary – I miejsca\nMedale – II – III miejsca\nDyplomy – I – VI miejsca\n\n\n\n💰 Opłaty i zgłoszenia\nStart w konkurencji: 40 zł \nZgłoszenia: w dniu zawodów do 12:00 \nZapewniamy gorący posiłek i napoje. \n🎁 Po zakończeniu zawodów odbędzie się dodatkowy konkurs z nagrodami dla uczestników!\n\n\n📞 Organizator\nKS GUARDIANS Nowolipsk \nNowolipsk 59\, 63-313 Chocz \nwww.ksguardians.pl \nbiuro@ksguardians.pl \n+48 501 591 659 \n\n📄 Pobierz regulamin zawodów
URL:https://ksguardians.pl/event/przywitanie-wiosny/
LOCATION:Strzelnica Sportowa \,\,Jóźwiak” Nowolipsk\, Nowolipsk 59\, Chocz\, wielkopolskie\, 63-313\, Poland
ATTACH;FMTTYPE=image/jpeg:https://ksguardians.pl/wp-content/uploads/2025/12/Plakat-Powitanie-Wiosny-final.jpeg
ORGANIZER;CN="KS Guardians Nowolipsk":MAILTO:biuro@ksguardians.pl
END:VEVENT
BEGIN:VEVENT
DTSTART;TZID=Europe/Warsaw:20260503T090000
DTEND;TZID=Europe/Warsaw:20260503T150000
DTSTAMP:20260421T101728
CREATED:20260331T111140Z
LAST-MODIFIED:20260407T191620Z
UID:7351-1777798800-1777820400@ksguardians.pl
SUMMARY:Puchar Starosty Powiatu Pleszewskiego - 3 Maja
DESCRIPTION:🏆 Otwarte Zawody Strzeleckie z okazji Święta Konstytucji \,\,Puchar Starosty Powiatu Pleszewskiego – 3 Maja” \n3 maja 2026 • Strzelnica SPORTOWA „Jóźwiak” – Nowolipsk 59\n\nSerdecznie zapraszamy na zawody strzeleckie „Puchar Starosty Powiatu Pleszewskiego – 3 Maja”\,\nktóre odbędą się 3 maja 2026 r. na strzelnicy sportowej\n„Jóźwiak” w Nowolipsku. \nRozegranych zostanie 7 konkurencji strzeleckich – pistolet\,\nkarabin\, strzelba oraz konkurencje dynamiczne.\nKlasyfikacja indywidualna oraz drużynowa (skład dwuosobowy) – szczegóły w regulaminie \nZawody umożliwiają zaliczenie\nstartów do przedłużenia licencji PZSS na rok 2027. \n\n\n📅 Termin i miejsce\nData: 3.05.2026 \nGodzina: 9:00 – 15:00 \nBiuro zawodów: czynne od 8:30 \nMiejsce: Strzelnica Sportowa „Jóźwiak”\, Nowolipsk 59\, 63 – 313 Chocz \nZawody pod patronatem Starosty Powiatu Pleszewskiego \n\n\n🎯 Konkurencje\n\nPistolet sportowy\nPistolet centralnego zapłonu\nStrzelba SLUG\nKarabin sportowy\nKarabin centralnego zapłonu 50m\nKarabin centralnego zapłonu 100m\nStrzelba dynamiczna\n\n\n\n👤 Uczestnictwo\n\nzawodnicy z ważną licencją PZSS na rok 2026\nkategoria OPEN\nzawody do przedłużenia licencji\nklasyfikacja indywidualna i drużynowa (szczegóły w regulaminie)\n\n\n\n🏆 Nagrody\n\nPuchary – I miejsca\nMedale – II – III miejsca\nDyplomy – I – VI miejsca\n\n\n\n💰 Opłaty i zgłoszenia\nStart w konkurencji: 40 zł \nZgłoszenia: w dniu zawodów do 12:00 \nZapewniamy gorący posiłek i napoje. \n🎁 Po zakończeniu zawodów odbędzie się dodatkowy konkurs z nagrodami dla uczestników!\n\n\n📞 Organizator\nKS GUARDIANS Nowolipsk \nNowolipsk 59\, 63-313 Chocz \nwww.ksguardians.pl \nbiuro@ksguardians.pl \n+48 501 591 659 \n\n📄 Pobierz regulamin zawodów
URL:https://ksguardians.pl/event/zawody-3-maja/
LOCATION:Strzelnica Sportowa \,\,Jóźwiak” Nowolipsk\, Nowolipsk 59\, Chocz\, wielkopolskie\, 63-313\, Poland
ATTACH;FMTTYPE=image/png:https://ksguardians.pl/wp-content/uploads/2026/03/Zawody-3-Maja.png
ORGANIZER;CN="KS Guardians Nowolipsk":MAILTO:biuro@ksguardians.pl
END:VEVENT
END:VCALENDAR